View In:
ArcGIS JavaScript
ArcGIS Online Map Viewer
ArcGIS Earth
ArcGIS Pro
Service Description: Cached map service that contains just the annotations feature class, for use with the base map that does not have the cache. This way the annotations can be brought on top of buildings polygons.
Map Name: SeattleAnnotations
Legend
All Layers and Tables
Layers:
Description: Cached map service that contains just the annotations feature class, for use with the base map that does not have the cache. This way the annotations can be brought on top of buildings polygons.
Service Item Id: f56d020edd2d493d964d02138dd0442b
Copyright Text:
Spatial Reference:
102100
(3857)
Single Fused Map Cache: true
Tile Info:
- Height: 256
- Width: 256
- DPI: 96
-
Levels of Detail: 24
-
Level ID: 1
[ Start Tile, End Tile ]
- Resolution: 78271.5169639999
- Scale: 2.95828763795777E8
-
Level ID: 2
[ Start Tile, End Tile ]
- Resolution: 39135.7584820001
- Scale: 1.47914381897889E8
-
Level ID: 3
[ Start Tile, End Tile ]
- Resolution: 19567.8792409999
- Scale: 7.3957190948944E7
-
Level ID: 4
[ Start Tile, End Tile ]
- Resolution: 9783.93962049996
- Scale: 3.6978595474472E7
-
Level ID: 5
[ Start Tile, End Tile ]
- Resolution: 4891.96981024998
- Scale: 1.8489297737236E7
- Format: PNG
- Compression Quality: 0.0
- Origin: X: -2.0037508342787E7
Y: 2.0037508342787E7
- Spatial Reference: 102100
(3857)
Storage Info:
- Storage Format: esriMapCacheStorageModeCompactV2
- Packet Size: 128
Initial Extent:
XMin: -1.361504342142164E7
YMin: 6049647.876907856
XMax: -1.3614621054035122E7
YMax: 6050084.829957087
Spatial Reference: 102100
(3857)
Full Extent:
XMin: -1.3618338087263087E7
YMin: 6047926.506586212
XMax: -1.3609994116831865E7
YMax: 6051788.648041715
Spatial Reference: 102100
(3857)
Units: esriMeters
Supported Image Format Types: PNG32,PNG24,PNG,JPG,DIB,TIFF,EMF,PS,PDF,GIF,SVG,SVGZ,BMP
Document Info:
Title: BasemapPublishing.aprx
Author:
Comments: Cached map service that contains just the annotations feature class, for use with the base map that does not have the cache. This way the annotations can be brought on top of buildings polygons.
Subject: Cached map service that contains just the annotations feature class, for use with the base map that does not have the cache.
Category:
Keywords: UW
AntialiasingMode: Fast
TextAntialiasingMode: Force
Supports Dynamic Layers: false
MaxRecordCount: 1000
MaxImageHeight: 4096
MaxImageWidth: 4096
Supported Query Formats: JSON, geoJSON, PBF
Supports Query Data Elements: true
Min Scale: 147914382
Max Scale: 0
Min LOD: 0
Max LOD: 23
Supports Datum Transformation: true
Child Resources:
Info
Supported Operations:
QueryLegends
Return Updates