{
 "currentVersion": 11.2,
 "cimVersion": "3.2.0",
 "serviceDescription": "This is the basemap for Hillcrest. It includes the building and linework.",
 "mapName": "Layers",
 "description": "",
 "copyrightText": "",
 "supportsDynamicLayers": true,
 "layers": [
  {
   "id": 0,
   "name": "UniversityBuildings",
   "parentLayerId": -1,
   "defaultVisibility": true,
   "subLayerIds": null,
   "minScale": 0,
   "maxScale": 0,
   "type": "Feature Layer",
   "geometryType": "esriGeometryPolygon",
   "supportsDynamicLegends": true
  },
  {
   "id": 1,
   "name": "BaseComponents.DBO.HillcrestLinework",
   "parentLayerId": -1,
   "defaultVisibility": true,
   "subLayerIds": null,
   "minScale": 0,
   "maxScale": 0,
   "type": "Feature Layer",
   "geometryType": "esriGeometryPolyline",
   "supportsDynamicLegends": true
  },
  {
   "id": 2,
   "name": "SeattleCampusBackdrop",
   "parentLayerId": -1,
   "defaultVisibility": true,
   "subLayerIds": null,
   "minScale": 0,
   "maxScale": 0,
   "type": "Feature Layer",
   "geometryType": "esriGeometryPolygon",
   "supportsDynamicLegends": true
  }
 ],
 "tables": [],
 "spatialReference": {
  "wkid": 102748,
  "latestWkid": 2285,
  "xyTolerance": 0.003280833333333333,
  "zTolerance": 2,
  "mTolerance": 0.001,
  "falseX": -1.2408136384049664E8,
  "falseY": -1.0564617996219295E8,
  "xyUnits": 3.68443144030495E7,
  "falseZ": 0,
  "zUnits": 1,
  "falseM": -100000,
  "mUnits": 10000
 },
 "singleFusedMapCache": true,
 "tileInfo": {
  "rows": 256,
  "cols": 256,
  "dpi": 96,
  "format": "PNG",
  "compressionQuality": 0,
  "origin": {
   "x": -117104300,
   "y": 137949800
  },
  "spatialReference": {
   "wkid": 102748,
   "latestWkid": 2285,
   "xyTolerance": 0.003280833333333333,
   "zTolerance": 0.001,
   "mTolerance": 0.001,
   "falseX": -117104300,
   "falseY": -99539600,
   "xyUnits": 3.792674222403606E7,
   "falseZ": -939.2544950634601,
   "zUnits": 10000,
   "falseM": -100000,
   "mUnits": 10000
  },
  "lods": [
   {
    "level": 0,
    "resolution": 6.944444444444444,
    "scale": 8000
   },
   {
    "level": 1,
    "resolution": 3.472222222222222,
    "scale": 4000
   },
   {
    "level": 2,
    "resolution": 1.736111111111111,
    "scale": 2000
   },
   {
    "level": 3,
    "resolution": 0.8680555555555555,
    "scale": 1000
   },
   {
    "level": 4,
    "resolution": 0.43402777777777773,
    "scale": 500
   },
   {
    "level": 5,
    "resolution": 0.21701388888888887,
    "scale": 250
   },
   {
    "level": 6,
    "resolution": 0.10850694444444443,
    "scale": 125
   }
  ]
 },
 "storageInfo": {
  "storageFormat": "esriMapCacheStorageModeCompactV2",
  "packetSize": 128
 },
 "initialExtent": {
  "xmin": 1281859.8962334732,
  "ymin": 231734.76730910927,
  "xmax": 1282648.0906779177,
  "ymax": 232310.28814244276,
  "spatialReference": {
   "wkid": 102748,
   "latestWkid": 2285,
   "xyTolerance": 0.003280833333333333,
   "zTolerance": 2,
   "mTolerance": 0.001,
   "falseX": -1.2408136384049664E8,
   "falseY": -1.0564617996219295E8,
   "xyUnits": 3.68443144030495E7,
   "falseZ": 0,
   "zUnits": 1,
   "falseM": -100000,
   "mUnits": 10000
  }
 },
 "fullExtent": {
  "xmin": 1282026.094656393,
  "ymin": 231789.99619098008,
  "xmax": 1282349.2373827994,
  "ymax": 232005.7237778902,
  "spatialReference": {
   "wkid": 102748,
   "latestWkid": 2285,
   "xyTolerance": 0.003280833333333333,
   "zTolerance": 2,
   "mTolerance": 0.001,
   "falseX": -1.2408136384049664E8,
   "falseY": -1.0564617996219295E8,
   "xyUnits": 3.68443144030495E7,
   "falseZ": 0,
   "zUnits": 1,
   "falseM": -100000,
   "mUnits": 10000
  }
 },
 "datesInUnknownTimezone": false,
 "minScale": 8000,
 "maxScale": 125,
 "minLOD": 0,
 "maxLOD": 6,
 "units": "esriFeet",
 "supportedImageFormatTypes": "PNG32,PNG24,PNG,JPG,DIB,TIFF,EMF,PS,PDF,GIF,SVG,SVGZ,BMP",
 "documentInfo": {
  "Title": "",
  "Author": "",
  "Comments": "This is the basemap for Hillcrest. It includes the building and linework.",
  "Subject": "This is the basemap for Hillcrest. It includes the building and linework.",
  "Category": "",
  "Version": "10.1",
  "AntialiasingMode": "None",
  "TextAntialiasingMode": "Force",
  "Keywords": "Hillcrest,Basemap"
 },
 "supportsQueryDomains": true,
 "capabilities": "Map,Query,Data",
 "supportedQueryFormats": "JSON, geoJSON, PBF",
 "hasVersionedData": true,
 "exportTilesAllowed": false,
 "referenceScale": 0.0,
 "supportsDatumTransformation": true,
 "archivingInfo": {
  "supportsHistoricMoment": false
 },
 "supportsClipping": true,
 "supportsSpatialFilter": true,
 "supportsTimeRelation": true,
 "supportsQueryDataElements": true,
 "mapUnits": {
  "uwkid": 9003
 },
 "maxRecordCount": 1000,
 "maxImageHeight": 4096,
 "maxImageWidth": 4096,
 "supportedExtensions": "",
 "serviceItemId": "d110417369c949ac93345d9b0400a3a9"
}
